BEGIN:VCALENDAR
VERSION:2.0
PRODID:EVENTFROG//EVENT//ICAL
BEGIN:VEVENT
UID:20260424T063647Z-7452737477926749107@eventfrog.ch
DTSTAMP:20260424T063647Z
DTSTART:20260507T170000Z
DTEND:20260507T210000Z
SUMMARY:Irish Session
DESCRIPTION:Am Donnerstag, 7. Mai findet im Scherzhaus die nächste Irish Session statt. Ab 19 Uhr geht’s los mit irischer Folk-Live Musik. An einem langen Tisch setzen sich alle hin, die bei der open Jam Session \n\nhttps://eventfrog.ch/de/p/konzerte/folk/irish-session-7452737477926749107.html
LOCATION:Das Scherzhaus
GEO:46.923498;7.414655
URL:https://eventfrog.ch/de/p/konzerte/folk/irish-session-7452737477926749107.html
END:VEVENT
END:VCALENDAR