BEGIN:VCALENDAR
VERSION:2.0
PRODID:EVENTFROG//EVENT//ICAL
BEGIN:VEVENT
UID:20260424T134612Z-7452761657959287901@eventfrog.ch
DTSTAMP:20260424T134612Z
DTSTART:20260520T170000Z
DTEND:20260520T183000Z
SUMMARY:Beckenbodenkurs online
DESCRIPTION:Der Online-Kurs auf Schweizerdeutsch stärkt den Beckenboden von Frauen jeden Alters flexibel und wirkungsvoll im Alltag.\n\nhttps://eventfrog.ch/de/p/gesundheit-spiritualitaet/gesundheit-wohlbefinden/beckenbodenkurs-online-7452761657959287901.html
LOCATION:Via Zoom
URL:https://eventfrog.ch/de/p/gesundheit-spiritualitaet/gesundheit-wohlbefinden/beckenbodenkurs-online-7452761657959287901.html
END:VEVENT
END:VCALENDAR