BEGIN:VCALENDAR
VERSION:2.0
PRODID:EVENTFROG//EVENT//ICAL
BEGIN:VEVENT
UID:20260424T140837Z-7452761658340970236@eventfrog.ch
DTSTAMP:20260424T140837Z
DTSTART:20260603T170000Z
DTEND:20260603T183000Z
SUMMARY:Beckenbodenkurs online
DESCRIPTION:Der Online-Kurs auf Schweizerdeutsch stärkt den Beckenboden von Frauen jeden Alters flexibel und wirkungsvoll im Alltag.\n\nhttps://eventfrog.ch/de/p/gesundheit-spiritualitaet/gesundheit-wohlbefinden/beckenbodenkurs-online-7452761658340970236.html
LOCATION:Via Zoom
URL:https://eventfrog.ch/de/p/gesundheit-spiritualitaet/gesundheit-wohlbefinden/beckenbodenkurs-online-7452761658340970236.html
END:VEVENT
END:VCALENDAR