BEGIN:VCALENDAR
VERSION:2.0
PRODID:EVENTFROG//EVENT//ICAL
BEGIN:VEVENT
UID:20260424T063708Z-7452789861994489594@eventfrog.ch
DTSTAMP:20260424T063708Z
DTSTART:20260502T190000Z
DTEND:20260503T020000Z
SUMMARY:1 Jähriges Hotspot
DESCRIPTION:Im Eden Club St. Gallen feiern DJ Kenco und DJ Jobamba am 2. Mai 2026 das 1-jährige Jubiläum von HOTSPOT ab 21 Uhr.\n\nhttps://eventfrog.ch/de/p/partys/disco/1-jaehriges-hotspot-7452789861994489594.html
LOCATION:Eden Club St. Gallen
GEO:47.425708;9.372712
URL:https://eventfrog.ch/de/p/partys/disco/1-jaehriges-hotspot-7452789861994489594.html
END:VEVENT
END:VCALENDAR