BEGIN:VCALENDAR
VERSION:2.0
PRODID:EVENTFROG//EVENT//ICAL
BEGIN:VEVENT
UID:20260424T154408Z-7452790662146042256@eventfrog.ch
DTSTAMP:20260424T154408Z
DTSTART:20261115T150000Z
SUMMARY:Akkordeon Orchester Bayer Leverkusen in der Friedenskirche
DESCRIPTION:Das Akkordeon-Orchester Bayer Leverkusen konzertiert am 15.11.2026 um 16 Uhr in der Friedenskirche Leverkusen unter Monika Schneider.\n\nhttps://eventfrog.ch/de/p/konzerte/kirchenmusik/akkordeon-orchester-bayer-leverkusen-in-der-friedenskirche-7452790662146042256.html
LOCATION:Friedenskirche
GEO:51.020858;7.045317
URL:https://eventfrog.ch/de/p/konzerte/kirchenmusik/akkordeon-orchester-bayer-leverkusen-in-der-friedenskirche-7452790662146042256.html
END:VEVENT
END:VCALENDAR