BEGIN:VCALENDAR
VERSION:2.0
PRODID:EVENTFROG//EVENT//ICAL
BEGIN:VEVENT
UID:20260425T180015Z-7452834932878000064@eventfrog.ch
DTSTAMP:20260425T180015Z
DTSTART:20260530T100000Z
SUMMARY:Entrümpelungsparty Kult-X
DESCRIPTION:Entrümpelungsparty Kult-X\n\nhttps://eventfrog.ch/de/p/konzerte/entruempelungsparty-kult-x-7452834932878000064.html
LOCATION:Kult-X
GEO:47.651587;9.175423
URL:https://eventfrog.ch/de/p/konzerte/entruempelungsparty-kult-x-7452834932878000064.html
END:VEVENT
END:VCALENDAR