BEGIN:VCALENDAR
VERSION:2.0
PRODID:EVENTFROG//EVENT//ICAL
BEGIN:VEVENT
UID:20260424T063647Z-7452970741757175419@eventfrog.ch
DTSTAMP:20260424T063647Z
DTSTART:20260627T070000Z
DTEND:20260628T180000Z
SUMMARY:Summer Magic
DESCRIPTION:Zweitägiges Kulturfestival rund um das Sammelkartenspiel Magic: The Gathering. Es gibt viele Turniere und Events für Spieler, Sammler und Interessierte MTG Fans.\n\nhttps://eventfrog.ch/de/p/festivals/kunst-kultur/summer-magic-7452970741757175419.html
LOCATION:Spielweltenfabrik
GEO:47.485687;7.735439
URL:https://eventfrog.ch/de/p/festivals/kunst-kultur/summer-magic-7452970741757175419.html
END:VEVENT
END:VCALENDAR