BEGIN:VCALENDAR
VERSION:2.0
PRODID:EVENTFROG//EVENT//ICAL
BEGIN:VEVENT
UID:20260424T083033Z-7452977383978599891@eventfrog.ch
DTSTAMP:20260424T083033Z
DTSTART:20260712T171500Z
DTEND:20260712T181500Z
SUMMARY:Floating & Soundbath in Winterthur / Schwimmbad Wolfensberg
DESCRIPTION:Calm down. Let go. Simply receive. - Erlebe eine entspannende Floating & Soundbath-Session auf dem Paddleboard oder am Boden mit sanften Klängen. Schwimmbad Wolfensberg Winterthur\n\nhttps://eventfrog.ch/de/p/gesundheit-spiritualitaet/gesundheit-wohlbefinden/floating-soundbath-in-winterthur-schwimmbad-wolfensberg-7452977383978599891.html
LOCATION:Schwimmbad Wolfensberg
GEO:47.513416;8.715379
URL:https://eventfrog.ch/de/p/gesundheit-spiritualitaet/gesundheit-wohlbefinden/floating-soundbath-in-winterthur-schwimmbad-wolfensberg-7452977383978599891.html
END:VEVENT
END:VCALENDAR