BEGIN:VCALENDAR
VERSION:2.0
PRODID:EVENTFROG//EVENT//ICAL
BEGIN:VEVENT
UID:20260425T012516Z-7452980208494241290@eventfrog.ch
DTSTAMP:20260425T012516Z
DTSTART:20260604T150000Z
DTEND:20260604T200000Z
SUMMARY:SOUNDBAR IM ESSZIMMER & LOFT
DESCRIPTION:Die Soundbar im ESSZIMMER & LOFT findet donnerstags 17-22 Uhr in der Coco Bar statt mit entspannter Atmosphäre und Musik.\n\nhttps://eventfrog.ch/de/p/diverses/soundbar-im-esszimmer-loft-7452980208494241290.html
LOCATION:ESSZIMMER & LOFT
GEO:47.062932;8.310120
URL:https://eventfrog.ch/de/p/diverses/soundbar-im-esszimmer-loft-7452980208494241290.html
END:VEVENT
END:VCALENDAR