BEGIN:VCALENDAR
VERSION:2.0
PRODID:EVENTFROG//EVENT//ICAL
BEGIN:VEVENT
UID:20260425T155822Z-7452985334361518859@eventfrog.ch
DTSTAMP:20260425T155822Z
DTSTART:20260426T080000Z
DTEND:20260426T140000Z
SUMMARY:5 Straßen, 1 Flohmarkt in Bad Oldesloe
DESCRIPTION:Am 26.04.2026 ab 10 Uhr verkaufen Anwohner in fünf Bad Oldesloer Straßen privaten Trödel. Keine Händler.\nWaldstraße, Wiesenstraße, Am Tannenhof, Stettiner Straße und Breslauer Straße\n\nhttps://eventfrog.ch/de/p/maerkte/flohmarkt/5-strassen-1-flohmarkt-in-bad-oldesloe-7452985334361518859.html
LOCATION:Flohmarkt Bad Oldesloe
GEO:53.816574;10.376437
URL:https://eventfrog.ch/de/p/maerkte/flohmarkt/5-strassen-1-flohmarkt-in-bad-oldesloe-7452985334361518859.html
END:VEVENT
END:VCALENDAR