BEGIN:VCALENDAR
VERSION:2.0
PRODID:EVENTFROG//EVENT//ICAL
BEGIN:VEVENT
UID:20260424T075622Z-7452998754884410101@eventfrog.ch
DTSTAMP:20260424T075622Z
DTSTART:20260510T143000Z
DTEND:20260510T180000Z
SUMMARY:Ecstatic Dance Journey with Sascha Kid
DESCRIPTION:Sascha Kid verbindet Live-Cello mit elektronischer Tanzmusik für eine emotionale Ecstatic Dance Reise.\nAnkommen ab 16:30 Uhr.\n Beginn 17 Uhr\n\nhttps://eventfrog.ch/de/p/kurse-seminare/musik-tanz/ecstatic-dance-journey-with-sascha-kid-7452998754884410101.html
LOCATION:Flow60
GEO:47.350619;8.600621
URL:https://eventfrog.ch/de/p/kurse-seminare/musik-tanz/ecstatic-dance-journey-with-sascha-kid-7452998754884410101.html
END:VEVENT
END:VCALENDAR