BEGIN:VCALENDAR
VERSION:2.0
PRODID:EVENTFROG//EVENT//ICAL
BEGIN:VEVENT
UID:20260424T064916Z-7453012377262409446@eventfrog.ch
DTSTAMP:20260424T064916Z
DTSTART:20260429T163000Z
DTEND:20260429T203000Z
SUMMARY:Soupe à l'oignon - vin rouge
DESCRIPTION:Une soupe française et du vin rouge\n\nhttps://eventfrog.ch/de/p/essen-trinken/soupe-a-l-oignon-vin-rouge-7453012377262409446.html
LOCATION:HXE Gebäude
GEO:47.407473;8.506409
URL:https://eventfrog.ch/de/p/essen-trinken/soupe-a-l-oignon-vin-rouge-7453012377262409446.html
END:VEVENT
END:VCALENDAR