BEGIN:VCALENDAR
VERSION:2.0
PRODID:EVENTFROG//EVENT//ICAL
BEGIN:VEVENT
UID:20260424T025017Z-7453022636039225393@eventfrog.ch
DTSTAMP:20260424T025017Z
DTSTART:20260430T173000Z
SUMMARY:Liquid Soul „Musik aus Luft und Wasser“
DESCRIPTION:Liquid Soul spielen mit den Elementen Luft & Wasser und nehmen ihr Publikum mit in ihre ganz eigene Wasser-Klang-Welt.\n\nhttps://eventfrog.ch/de/p/konzerte/world-ethno/liquid-soul-musik-aus-luft-und-wasser-7453022636039225393.html
LOCATION:Evangelische Stadtkirche St. Nikolai
GEO:51.594396;12.589375
URL:https://eventfrog.ch/de/p/konzerte/world-ethno/liquid-soul-musik-aus-luft-und-wasser-7453022636039225393.html
END:VEVENT
END:VCALENDAR