BEGIN:VCALENDAR
VERSION:2.0
PRODID:EVENTFROG//EVENT//ICAL
BEGIN:VEVENT
UID:20260424T220111Z-7453038003910391175@eventfrog.ch
DTSTAMP:20260424T220111Z
DTSTART:20260724T183000Z
DTEND:20260724T203000Z
SUMMARY:Awfully Funny: A Dark Comedy Showcase
DESCRIPTION:Do you have a twisted sense of humour? This show might be for you!\n\nhttps://eventfrog.ch/en/p/theatre-stage/comedy-cabaret/awfully-funny-a-dark-comedy-showcase-7453038003910391175.html
LOCATION:The Beast Basel Comedy Club
GEO:47.556046;7.589448
URL:https://eventfrog.ch/en/p/theatre-stage/comedy-cabaret/awfully-funny-a-dark-comedy-showcase-7453038003910391175.html
END:VEVENT
END:VCALENDAR