BEGIN:VCALENDAR
VERSION:2.0
PRODID:EVENTFROG//EVENT//ICAL
BEGIN:VEVENT
UID:20260424T220107Z-7453056428414103699@eventfrog.ch
DTSTAMP:20260424T220107Z
DTSTART:20260610T180000Z
SUMMARY:Stefan Heuss
DESCRIPTION:Stefan Heuss\n\nhttps://eventfrog.ch/de/p/theater-buehne/stefan-heuss-7453056428414103699.html
LOCATION:Casinotheater
GEO:47.499716;8.726641
URL:https://eventfrog.ch/de/p/theater-buehne/stefan-heuss-7453056428414103699.html
END:VEVENT
END:VCALENDAR