BEGIN:VCALENDAR
VERSION:2.0
PRODID:EVENTFROG//EVENT//ICAL
BEGIN:VEVENT
UID:20260424T075558Z-7453060912791997180@eventfrog.ch
DTSTAMP:20260424T075558Z
DTSTART:20260505T100000Z
DTEND:20260505T110000Z
SUMMARY:M-POWER SHOT 4 RADIANT LEADERS
DESCRIPTION:Der M-POWER SHOT bietet Führungskräften wöchentliche Impulse für mehr Leichtigkeit im Alltag. Mit klaren Tools und Reflexionsfragen stärkt er Motivation, Energie und Fokus.\n\nhttps://eventfrog.ch/fr/p/cours-seminaires/coaching/m-power-shot-4-radiant-leaders-7453060912791997180.html
LOCATION:Online event
URL:https://eventfrog.ch/fr/p/cours-seminaires/coaching/m-power-shot-4-radiant-leaders-7453060912791997180.html
END:VEVENT
END:VCALENDAR