BEGIN:VCALENDAR
VERSION:2.0
PRODID:EVENTFROG//EVENT//ICAL
BEGIN:VEVENT
UID:20260424T070912Z-7453063439176475232@eventfrog.ch
DTSTAMP:20260424T070912Z
DTSTART:20260508T200000Z
DTEND:20260509T020000Z
SUMMARY:Biocale - Soirée All Style
DESCRIPTION:Le 08.05, DJ Maaf assure une soirée avec photobooth et prix étudiants au Flanagan's pour clôturer la Semaine de la Durabilité.\n\nhttps://eventfrog.ch/en/p/parties/student-party/biocale-soiree-all-style-7453063439176475232.html
LOCATION:Flanagan's
GEO:46.201739;6.145418
URL:https://eventfrog.ch/en/p/parties/student-party/biocale-soiree-all-style-7453063439176475232.html
END:VEVENT
END:VCALENDAR