BEGIN:VCALENDAR
VERSION:2.0
PRODID:EVENTFROG//EVENT//ICAL
BEGIN:VEVENT
UID:20260424T063139Z-7453071912270335857@eventfrog.ch
DTSTAMP:20260424T063139Z
DTSTART:20260502T200000Z
DTEND:20260503T020000Z
SUMMARY:RHYTHM & BOUNCE
DESCRIPTION:PARTY SERIE\n\nRNB - HIP HOP & MORE..\n\nhttps://eventfrog.ch/de/p/partys/sonstige-partys/rhythm-bounce-7453071912270335857.html
LOCATION:Club Cello (ehem. Singer Klub)
GEO:47.558701;7.587037
URL:https://eventfrog.ch/de/p/partys/sonstige-partys/rhythm-bounce-7453071912270335857.html
END:VEVENT
END:VCALENDAR