BEGIN:VCALENDAR
VERSION:2.0
PRODID:EVENTFROG//EVENT//ICAL
BEGIN:VEVENT
UID:20260424T051551Z-7453078874810794557@eventfrog.ch
DTSTAMP:20260424T051551Z
DTSTART:20260426T080000Z
DTEND:20260426T160000Z
SUMMARY:Neueröffnung Malkuth – Brocante & Café im Grünen
DESCRIPTION: Brocante & Vintage, Secondhand\n Natur & Freizeit\n️ Café im Grünen\n Live Musik & Apèro\n Neueröffnung \nAuf dem Mayenfels, Pratteln\n\n\nhttps://eventfrog.ch/de/p/essen-trinken/neueroeffnung-malkuth-brocante-cafe-im-gruenen-7453078874810794557.html
LOCATION:Malkuth - Brocante & Café
GEO:47.514135;7.681758
URL:https://eventfrog.ch/de/p/essen-trinken/neueroeffnung-malkuth-brocante-cafe-im-gruenen-7453078874810794557.html
END:VEVENT
END:VCALENDAR