BEGIN:VCALENDAR
VERSION:2.0
PRODID:EVENTFROG//EVENT//ICAL
BEGIN:VEVENT
UID:20260424T051550Z-7453085578298417122@eventfrog.ch
DTSTAMP:20260424T051550Z
DTSTART:20260501T200000Z
SUMMARY:PARTY BINGO!!
DESCRIPTION:Partybingo in der PROGR Turnhalle!\n\nhttps://eventfrog.ch/de/p/partys/electro/party-bingo-7453085578298417122.html
LOCATION:Turnhalle PROGR Bern
GEO:46.950336;7.442980
URL:https://eventfrog.ch/de/p/partys/electro/party-bingo-7453085578298417122.html
END:VEVENT
END:VCALENDAR