BEGIN:VCALENDAR
VERSION:2.0
PRODID:EVENTFROG//EVENT//ICAL
BEGIN:VEVENT
UID:20260426T033817Z-7453092873812069319@eventfrog.ch
DTSTAMP:20260426T033817Z
DTSTART:20260510T110000Z
DTEND:20260510T150000Z
SUMMARY:ZusammenLeben in der Heide
DESCRIPTION:Eine interaktive Ausstellung zeigt das vielfältige Zusammenleben von Pflanzen, Tieren und Menschen in der Heide.\n\nhttps://eventfrog.ch/de/p/kunst-ausstellungen/ausstellung/zusammenleben-in-der-heide-7453092873812069319.html
LOCATION:HeideHaus
GEO:48.211149;11.614929
URL:https://eventfrog.ch/de/p/kunst-ausstellungen/ausstellung/zusammenleben-in-der-heide-7453092873812069319.html
END:VEVENT
END:VCALENDAR