BEGIN:VCALENDAR
VERSION:2.0
PRODID:EVENTFROG//EVENT//ICAL
BEGIN:VEVENT
UID:20260425T224731Z-7453122700820643499@eventfrog.ch
DTSTAMP:20260425T224731Z
DTSTART:20260508T170000Z
SUMMARY:Belluna-Abend: Lesung und Gespräche
DESCRIPTION:An diesem Abend lesen Heike Wach und Nilgün Özdal aus dem Buch «Was ich anderen erzählen möchte - vom Weggehen und Ankommen». Im Anschluss gibt es Gelegenheit für Austausch sowie einen Apéro\n\nhttps://eventfrog.ch/de/p/theater-buehne/lesung/belluna-abend-lesung-und-gespraeche-7453122700820643499.html
LOCATION:Solihaus
GEO:47.431640;9.392964
URL:https://eventfrog.ch/de/p/theater-buehne/lesung/belluna-abend-lesung-und-gespraeche-7453122700820643499.html
END:VEVENT
END:VCALENDAR