BEGIN:VCALENDAR
VERSION:2.0
PRODID:EVENTFROG//EVENT//ICAL
BEGIN:VEVENT
UID:20260424T063609Z-7453128993060989867@eventfrog.ch
DTSTAMP:20260424T063609Z
DTSTART:20260829T180000Z
DTEND:20260829T201500Z
SUMMARY:Comedy-Programm „Held“ mit Reto Zeller
DESCRIPTION:Reto Zeller entführt mit abgedrehten Geschichten und feinem Humor in seinem Solo-Programm «Held» auf unterhaltsame Heldenreisen.\n\nhttps://eventfrog.ch/de/p/theater-buehne/comedy-kabarett/comedy-programm-held-mit-reto-zeller-7453128993060989867.html
LOCATION:Dialoghotel Eckstein
GEO:47.196980;8.530177
URL:https://eventfrog.ch/de/p/theater-buehne/comedy-kabarett/comedy-programm-held-mit-reto-zeller-7453128993060989867.html
END:VEVENT
END:VCALENDAR