BEGIN:VCALENDAR
VERSION:2.0
PRODID:EVENTFROG//EVENT//ICAL
BEGIN:VEVENT
UID:20260424T051621Z-7453144133755999569@eventfrog.ch
DTSTAMP:20260424T051621Z
DTSTART:20260812T180000Z
DTEND:20260812T210000Z
SUMMARY:Filth + Forced to Breathe + Drover
DESCRIPTION:Filth vereint downtempo Deathcore und Hip-Hop, mit Support von Forced to Breathe und Drover, live auf Tour.\n\nhttps://eventfrog.ch/de/p/konzerte/hard-rock-heavy-metal/filth-forced-to-breathe-drover-7453144133755999569.html
LOCATION:Valhalla Basel
GEO:47.553158;7.585873
URL:https://eventfrog.ch/de/p/konzerte/hard-rock-heavy-metal/filth-forced-to-breathe-drover-7453144133755999569.html
END:VEVENT
END:VCALENDAR