BEGIN:VCALENDAR
VERSION:2.0
PRODID:EVENTFROG//EVENT//ICAL
BEGIN:VEVENT
UID:20260424T072125Z-7453160812917604781@eventfrog.ch
DTSTAMP:20260424T072125Z
DTSTART:20260712T090000Z
DTEND:20260712T100000Z
SUMMARY:Der Schatz im Inneren
DESCRIPTION:Der Schatz im Inneren ;  Gottes Liebe erfahren ; spirituelle Übungen ; ECK Gottesdienst\n\nhttps://eventfrog.ch/de/p/gesundheit-spiritualitaet/spiritualitaet/der-schatz-im-inneren-7453160812917604781.html
LOCATION:Leonardo Hotel Mannheim City Center
GEO:49.484775;8.469867
URL:https://eventfrog.ch/de/p/gesundheit-spiritualitaet/spiritualitaet/der-schatz-im-inneren-7453160812917604781.html
END:VEVENT
END:VCALENDAR