BEGIN:VCALENDAR
VERSION:2.0
PRODID:EVENTFROG//EVENT//ICAL
BEGIN:VEVENT
UID:20260424T063646Z-7453173865230951670@eventfrog.ch
DTSTAMP:20260424T063646Z
DTSTART:20261028T190000Z
DTEND:20261028T210000Z
SUMMARY:Digital Daddy (auf Deutsch)
DESCRIPTION:Comedian Benjamin Delahaye seziert die Absurdität einer Welt, in der uns Technologie eigentlich näherbringen sollte – und uns stattdessen isolierter gemacht hat als je zuvor.\n\nhttps://eventfrog.ch/de/p/theater-buehne/comedy-kabarett/digital-daddy-auf-deutsch-7453173865230951670.html
LOCATION:Les Amis
GEO:46.948399;7.448710
URL:https://eventfrog.ch/de/p/theater-buehne/comedy-kabarett/digital-daddy-auf-deutsch-7453173865230951670.html
END:VEVENT
END:VCALENDAR