BEGIN:VCALENDAR
VERSION:2.0
PRODID:EVENTFROG//EVENT//ICAL
BEGIN:VEVENT
UID:20260424T075554Z-7453177458013010225@eventfrog.ch
DTSTAMP:20260424T075554Z
DTSTART:20260510T151500Z
SUMMARY:Musikalisches Porträt Italiens im 17. Jahrhundert
DESCRIPTION:Das Ensemble Unbecantus spielt italienische Barockmusik auf historischen Instrumenten und entführt in den 17. Jahrhundert Klang.\n\nhttps://eventfrog.ch/de/p/klassik-opern/klassik/musikalisches-portraet-italiens-im-17-jahrhundert-7453177458013010225.html
LOCATION:Ref. Kirche Regensberg
GEO:47.483241;8.438917
URL:https://eventfrog.ch/de/p/klassik-opern/klassik/musikalisches-portraet-italiens-im-17-jahrhundert-7453177458013010225.html
END:VEVENT
END:VCALENDAR