BEGIN:VCALENDAR
VERSION:2.0
PRODID:EVENTFROG//EVENT//ICAL
BEGIN:VEVENT
UID:20260425T023021Z-7453188537321543518@eventfrog.ch
DTSTAMP:20260425T023021Z
DTSTART:20260430T173000Z
DTEND:20260430T210000Z
SUMMARY:ZFG Stranger Games: Discover Hidden Gem Board Games!
DESCRIPTION:Stranger Games: Jeden 4. Dienstag 6-7 kuratierte, unterschätzte Spiele in Oerlikon, mit Spielleitung und CHF 5 Eintritt.\n\nhttps://eventfrog.ch/en/p/leisure-excursions/groups-games/zfg-stranger-games-discover-hidden-gem-board-games-7453188537321543518.html
LOCATION:Cooper's Pub
GEO:47.410653;8.546322
URL:https://eventfrog.ch/en/p/leisure-excursions/groups-games/zfg-stranger-games-discover-hidden-gem-board-games-7453188537321543518.html
END:VEVENT
END:VCALENDAR