BEGIN:VCALENDAR
VERSION:2.0
PRODID:EVENTFROG//EVENT//ICAL
BEGIN:VEVENT
UID:20260424T224222Z-7453196187270705090@eventfrog.ch
DTSTAMP:20260424T224222Z
DTSTART:20261111T180000Z
SUMMARY:Mateo Gudenrath - Unfiltered
DESCRIPTION:Mateo Gudenrath - Unfiltered\n\nhttps://eventfrog.ch/de/p/konzerte/mateo-gudenrath-unfiltered-7453196187270705090.html
LOCATION:Grabenhalle
GEO:47.427340;9.374160
URL:https://eventfrog.ch/de/p/konzerte/mateo-gudenrath-unfiltered-7453196187270705090.html
END:VEVENT
END:VCALENDAR