BEGIN:VCALENDAR
VERSION:2.0
PRODID:EVENTFROG//EVENT//ICAL
BEGIN:VEVENT
UID:20260424T072127Z-7453197513920667348@eventfrog.ch
DTSTAMP:20260424T072127Z
DTSTART:20260425T130000Z
SUMMARY:Umwandlung von Störgefühlen im Buddhismus - Vortrag
DESCRIPTION:Bea Amar und Meike Martins Pereira zeigen, wie man störende Gefühle im Buddhismus als Rohstoff für innere Entwicklung nutzt, mit anschliessender angeleiteter Meditation.\n\nhttps://eventfrog.ch/de/p/fuehrungen-vortraege/vortrag/umwandlung-von-stoergefuehlen-im-buddhismus-vortrag-7453197513920667348.html
LOCATION:Buddhistisches Zentrum Bremen
GEO:53.084831;8.826065
URL:https://eventfrog.ch/de/p/fuehrungen-vortraege/vortrag/umwandlung-von-stoergefuehlen-im-buddhismus-vortrag-7453197513920667348.html
END:VEVENT
END:VCALENDAR