BEGIN:VCALENDAR
VERSION:2.0
PRODID:EVENTFROG//EVENT//ICAL
BEGIN:VEVENT
UID:20260424T055437Z-7453200893707554008@eventfrog.ch
DTSTAMP:20260424T055437Z
DTSTART:20260517T170000Z
DTEND:20260517T210000Z
SUMMARY:MAIKA MAKOVSKI LIVE in WIEN!
DESCRIPTION:Maika Makovski spielt am 17. Mai 2026 ihr erstes Wien-Konzert als exklusives Akustik-Set mit Bobbi Relac, Einlass 19 Uhr, Fania Live Gürtellinie U-Bahn Bogen 22, 1080 Wien U6 Station Thaliastraß.\n\nhttps://eventfrog.ch/en/p/concerts/indie-alternative/maika-makovski-live-in-wien-7453200893707554008.html
LOCATION:Fanialive
GEO:48.208856;16.338667
URL:https://eventfrog.ch/en/p/concerts/indie-alternative/maika-makovski-live-in-wien-7453200893707554008.html
END:VEVENT
END:VCALENDAR