BEGIN:VCALENDAR
VERSION:2.0
PRODID:EVENTFROG//EVENT//ICAL
BEGIN:VEVENT
UID:20260424T053225Z-7453202062219736782@eventfrog.ch
DTSTAMP:20260424T053225Z
DTSTART:20260425T093000Z
DTEND:20260425T130000Z
SUMMARY:Vernissage: 30 Jahre Tüüfner Poscht - Ein Dorf schreibt Gesc
DESCRIPTION:Jubiläumsausstellung der Tüüfner Poscht.\n\nhttps://eventfrog.ch/de/p/wissenschaft-und-technik/vernissage-30-jahre-tueuefner-poscht-ein-dorf-schreibt-gesc-7453202062219736782.html
LOCATION:ehem. Schulhaus Dorf
GEO:47.390341;9.387145
URL:https://eventfrog.ch/de/p/wissenschaft-und-technik/vernissage-30-jahre-tueuefner-poscht-ein-dorf-schreibt-gesc-7453202062219736782.html
END:VEVENT
END:VCALENDAR