BEGIN:VCALENDAR
VERSION:2.0
PRODID:EVENTFROG//EVENT//ICAL
BEGIN:VEVENT
UID:20260424T081849Z-7453202062756607712@eventfrog.ch
DTSTAMP:20260424T081849Z
DTSTART:20260608T140000Z
DTEND:20260608T180000Z
SUMMARY:30 Jahre Tüüfner Poscht - Ein Dorf schreibt Geschichte
DESCRIPTION:Ausstellung zum 30-Jahre-Jubiläum der «Tüüfner Poscht».\n\nhttps://eventfrog.ch/de/p/wissenschaft-und-technik/30-jahre-tueuefner-poscht-ein-dorf-schreibt-geschichte-7453202062756607712.html
LOCATION:ehem. Schulhaus Dorf
GEO:47.390341;9.387145
URL:https://eventfrog.ch/de/p/wissenschaft-und-technik/30-jahre-tueuefner-poscht-ein-dorf-schreibt-geschichte-7453202062756607712.html
END:VEVENT
END:VCALENDAR