BEGIN:VCALENDAR
VERSION:2.0
PRODID:EVENTFROG//EVENT//ICAL
BEGIN:VEVENT
UID:20260424T081815Z-7453202063100540642@eventfrog.ch
DTSTAMP:20260424T081815Z
DTSTART:20260521T170000Z
SUMMARY:30 Jahre Tüüfner Poscht - Ein Dorf schreibt Geschichte
DESCRIPTION:Ausstellung zum 30-Jahre-Jubiläum der «Tüüfner Poscht».\n\nhttps://eventfrog.ch/de/p/wissenschaft-und-technik/30-jahre-tueuefner-poscht-ein-dorf-schreibt-geschichte-7453202063100540642.html
LOCATION:ehem. Schulhaus Dorf
GEO:47.390341;9.387145
URL:https://eventfrog.ch/de/p/wissenschaft-und-technik/30-jahre-tueuefner-poscht-ein-dorf-schreibt-geschichte-7453202063100540642.html
END:VEVENT
END:VCALENDAR