BEGIN:VCALENDAR
VERSION:2.0
PRODID:EVENTFROG//EVENT//ICAL
BEGIN:VEVENT
UID:20260424T200123Z-7453328522959930294@eventfrog.ch
DTSTAMP:20260424T200123Z
DTSTART:20260612T190000Z
SUMMARY:Pub Crawl Zurich
DESCRIPTION:Join the original Pub Crawl and experience Zurich’s trendiest bars and clubs guided by the red hosts\nEine unvergessliche Party-Tour durch Zürichs beste Bars mit internationaler Gruppe by the red hosts\n\nhttps://eventfrog.ch/en/p/parties/charts-open-format/pub-crawl-zurich-7453328522959930294.html
LOCATION:2. Akt Restaurant & Sports Bar
GEO:47.369865;8.533612
URL:https://eventfrog.ch/en/p/parties/charts-open-format/pub-crawl-zurich-7453328522959930294.html
END:VEVENT
END:VCALENDAR