BEGIN:VCALENDAR
VERSION:2.0
PRODID:EVENTFROG//EVENT//ICAL
BEGIN:VEVENT
UID:20260426T000953Z-7453373557965336737@eventfrog.ch
DTSTAMP:20260426T000953Z
DTSTART:20261213T150000Z
DTEND:20261213T170000Z
SUMMARY:„Versprechen der Hoffnung“
DESCRIPTION:„Versprechen der Hoffnung“\n\nhttps://eventfrog.ch/de/p/klassik-opern/klassik/versprechen-der-hoffnung-7453373557965336737.html
LOCATION:Gemeindesaal Christuskirche
GEO:51.026782;13.765383
URL:https://eventfrog.ch/de/p/klassik-opern/klassik/versprechen-der-hoffnung-7453373557965336737.html
END:VEVENT
END:VCALENDAR