BEGIN:VCALENDAR
VERSION:2.0
PRODID:EVENTFROG//EVENT//ICAL
BEGIN:VEVENT
UID:20260426T004215Z-7453374006923666028@eventfrog.ch
DTSTAMP:20260426T004215Z
DTSTART:20260905T190000Z
DTEND:20260906T000000Z
SUMMARY:POPCORN HITS-PARTY THUN
DESCRIPTION:POPCORN HITS-PARTY – Die ultimative 80er, 90er & 2000er Party! \nErlebe die besten Partyhits aus den 80ern, 90ern und 2000ern mit DJ Maik Wisler!\n\nhttps://eventfrog.ch/de/p/partys/disco/popcorn-hits-party-thun-7453374006923666028.html
LOCATION:Staatsstrasse 104
GEO:46.743892;7.647908
URL:https://eventfrog.ch/de/p/partys/disco/popcorn-hits-party-thun-7453374006923666028.html
END:VEVENT
END:VCALENDAR