BEGIN:VCALENDAR
VERSION:2.0
PRODID:EVENTFROG//EVENT//ICAL
BEGIN:VEVENT
UID:20260424T170038Z-7453378130381658896@eventfrog.ch
DTSTAMP:20260424T170038Z
DTSTART:20260425T080000Z
DTEND:20260426T160000Z
SUMMARY:Gertrud Belle bei unique - der Manufakturenmarkt
DESCRIPTION:Kollektion kennenlernen in  Kloster Eberbach, anprobieren und Lieblingsstücke direkt mitnehmen.\n\nhttps://eventfrog.ch/de/p/diverses/gertrud-belle-bei-unique-der-manufakturenmarkt-7453378130381658896.html
LOCATION:Kloster Eberbach
GEO:50.028996;8.058088
URL:https://eventfrog.ch/de/p/diverses/gertrud-belle-bei-unique-der-manufakturenmarkt-7453378130381658896.html
END:VEVENT
END:VCALENDAR