BEGIN:VCALENDAR
VERSION:2.0
PRODID:EVENTFROG//EVENT//ICAL
BEGIN:VEVENT
UID:20260424T211832Z-7453381482637205333@eventfrog.ch
DTSTAMP:20260424T211832Z
DTSTART:20260515T080000Z
DTEND:20260515T150000Z
SUMMARY:Urs Frei. A-Z
DESCRIPTION:Das Kunstmuseum St.Gallen präsentiert die erste umfassende Retrospektive des Schweizer Künstlers Urs Frei mit Werken aus vier Jahrzehnten.\n\nhttps://eventfrog.ch/de/p/kunst-ausstellungen/ausstellung/urs-frei-a-z-7453381482637205333.html
LOCATION:Kunstmuseum St. Gallen
GEO:47.427814;9.381619
URL:https://eventfrog.ch/de/p/kunst-ausstellungen/ausstellung/urs-frei-a-z-7453381482637205333.html
END:VEVENT
END:VCALENDAR