BEGIN:VCALENDAR
VERSION:2.0
PRODID:EVENTFROG//EVENT//ICAL
BEGIN:VEVENT
UID:20260425T123303Z-7453404015096771559@eventfrog.ch
DTSTAMP:20260425T123303Z
DTSTART:20260512T170000Z
DTEND:20260512T193000Z
SUMMARY:No2 - vino e stuzzichini - Italian Apero
DESCRIPTION:Geniesst toskanischen Wein und italienische Spezialitäten mit einem Getränk und Apero im Ticket inklusive.\n\nhttps://eventfrog.ch/de/p/essen-trinken/no2-vino-e-stuzzichini-italian-apero-7453404015096771559.html
LOCATION:Tuscany Italian Kitchen
GEO:47.172618;8.514642
URL:https://eventfrog.ch/de/p/essen-trinken/no2-vino-e-stuzzichini-italian-apero-7453404015096771559.html
END:VEVENT
END:VCALENDAR