BEGIN:VCALENDAR
VERSION:2.0
PRODID:EVENTFROG//EVENT//ICAL
BEGIN:VEVENT
UID:20260426T004207Z-7453413335570079505@eventfrog.ch
DTSTAMP:20260426T004207Z
DTSTART:20270603T180000Z
DTEND:20270603T200000Z
SUMMARY:Bülent Ceylan - Diktatürk!
DESCRIPTION:neues Programm\n\nhttps://eventfrog.ch/de/p/theater-buehne/comedy-kabarett/buelent-ceylan-diktatuerk-7453413335570079505.html
LOCATION:KKThun
GEO:46.743241;7.629527
URL:https://eventfrog.ch/de/p/theater-buehne/comedy-kabarett/buelent-ceylan-diktatuerk-7453413335570079505.html
END:VEVENT
END:VCALENDAR