BEGIN:VCALENDAR
VERSION:2.0
PRODID:EVENTFROG//EVENT//ICAL
BEGIN:VEVENT
UID:20260424T191207Z-7453416750853435777@eventfrog.ch
DTSTAMP:20260424T191207Z
DTSTART:20260426T100000Z
DTEND:20260426T150000Z
SUMMARY:Sonntags-Spaziergang mit Künstler Jan Hostettler
DESCRIPTION:Sonntags-Spaziergang mit dem Künstler Jan Hostettler an den südlichsten Punkt des Oltner Gemeindegebiets, Treffpunkt: Kunstmuseum Olten\n\nhttps://eventfrog.ch/de/p/kunst-ausstellungen/weitere-kunstveranstaltungen/sonntags-spaziergang-mit-kuenstler-jan-hostettler-7453416750853435777.html
LOCATION:Kunstmuseum Olten
GEO:47.349985;7.901622
URL:https://eventfrog.ch/de/p/kunst-ausstellungen/weitere-kunstveranstaltungen/sonntags-spaziergang-mit-kuenstler-jan-hostettler-7453416750853435777.html
END:VEVENT
END:VCALENDAR