BEGIN:VCALENDAR
VERSION:2.0
PRODID:EVENTFROG//EVENT//ICAL
BEGIN:VEVENT
UID:20260424T225826Z-7453438805493698943@eventfrog.ch
DTSTAMP:20260424T225826Z
DTSTART:20260605T090000Z
DTEND:20260605T160000Z
SUMMARY:Sammlung Martin und Veronika Burckhardt
DESCRIPTION:Sammlung Martin und Veronika Burckhardt - Von privaten Schätzen und öffentlichem Engagement\nMit Werken der Erbengemeinschaft sowie aus dem Karl August Burckhardt-Koechlin-Fonds im Kupferstichkabinett\n\nhttps://eventfrog.ch/de/p/kunst-ausstellungen/ausstellung/sammlung-martin-und-veronika-burckhardt-7453438805493698943.html
LOCATION:FOR ART - eine temporäre Kunstintervention von Littmann Kulturprojekte
GEO:47.555291;7.593660
URL:https://eventfrog.ch/de/p/kunst-ausstellungen/ausstellung/sammlung-martin-und-veronika-burckhardt-7453438805493698943.html
END:VEVENT
END:VCALENDAR