BEGIN:VCALENDAR
VERSION:2.0
PRODID:EVENTFROG//EVENT//ICAL
BEGIN:VEVENT
UID:20260425T041647Z-7453450486890374762@eventfrog.ch
DTSTAMP:20260425T041647Z
DTSTART:20260622T041500Z
DTEND:20260622T051500Z
SUMMARY:Stark in die Woche - Power Yoga Montagmorgen
DESCRIPTION:Power Yoga am Montagmorgen für alle, die ihre Woche bewusst stark beginnen wollen. Energie, Fokus und ein kraftvoller Start in den Tag.\n\nhttps://eventfrog.ch/en/p/sport-fitness/yoga/stark-in-die-woche-power-yoga-montagmorgen-7453450486890374762.html
LOCATION:Yoga2be
GEO:47.391101;8.536788
URL:https://eventfrog.ch/en/p/sport-fitness/yoga/stark-in-die-woche-power-yoga-montagmorgen-7453450486890374762.html
END:VEVENT
END:VCALENDAR