BEGIN:VCALENDAR
VERSION:2.0
PRODID:EVENTFROG//EVENT//ICAL
BEGIN:VEVENT
UID:20260424T231403Z-7453452108257316981@eventfrog.ch
DTSTAMP:20260424T231403Z
DTSTART:20260502T120000Z
DTEND:20260502T160000Z
SUMMARY:Afiya Walk & Talk
DESCRIPTION:Frauen spazieren am 02 Mai ab 14 Uhr von Stadelhofen zum Zürichhorn und geniessen dort ein gemeinsames Picknick.\n\nhttps://eventfrog.ch/de/p/freizeit-ausfluege/gruppen-spiele/afiya-walk-talk-7453452108257316981.html
LOCATION:Opernhaus Zürich
GEO:47.365067;8.546302
URL:https://eventfrog.ch/de/p/freizeit-ausfluege/gruppen-spiele/afiya-walk-talk-7453452108257316981.html
END:VEVENT
END:VCALENDAR