BEGIN:VCALENDAR
VERSION:2.0
PRODID:EVENTFROG//EVENT//ICAL
BEGIN:VEVENT
UID:20260424T225825Z-7453452309546177046@eventfrog.ch
DTSTAMP:20260424T225825Z
DTSTART:20260508T210000Z
DTEND:20260509T020000Z
SUMMARY:CHARLES LEVIN (SOUL CLAP)  EVANGELOS  HONEYDIP
DESCRIPTION:Soul Clap und Charles Levine begeistern mit modernem US-Soul-Sound, unterstützt von Honey Dip und Evangelos an den Decks.\n\nhttps://eventfrog.ch/de/p/partys/house-techno/charles-levin-soul-clap-evangelos-honeydip-7453452309546177046.html
LOCATION:STUDIO
GEO:47.385535;8.519921
URL:https://eventfrog.ch/de/p/partys/house-techno/charles-levin-soul-clap-evangelos-honeydip-7453452309546177046.html
END:VEVENT
END:VCALENDAR