BEGIN:VCALENDAR
VERSION:2.0
PRODID:EVENTFROG//EVENT//ICAL
BEGIN:VEVENT
UID:20260425T170232Z-7453452489272113704@eventfrog.ch
DTSTAMP:20260425T170232Z
DTSTART:20260502T113000Z
DTEND:20260502T180000Z
SUMMARY:Bewegungsfest
DESCRIPTION:BEWEGUNGSFEST im Brand\n\nhttps://eventfrog.ch/de/p/sport-fitness/freizeitsport/bewegungsfest-7453452489272113704.html
LOCATION:Sportplatz Eich
GEO:47.165629;8.169403
URL:https://eventfrog.ch/de/p/sport-fitness/freizeitsport/bewegungsfest-7453452489272113704.html
END:VEVENT
END:VCALENDAR