BEGIN:VCALENDAR
VERSION:2.0
PRODID:EVENTFROG//EVENT//ICAL
BEGIN:VEVENT
UID:20260425T170232Z-7453471289627413641@eventfrog.ch
DTSTAMP:20260425T170232Z
DTSTART:20260524T200000Z
DTEND:20260525T010000Z
SUMMARY:Afro Heat Pearl Event
DESCRIPTION:Erlebe eine mitreissende Afroparty mit pulsierenden Beats und spektakulärer Aussicht über den Dächern von Winterthur.\n\nhttps://eventfrog.ch/de/p/partys/hip-hop-rap/afro-heat-pearl-event-7453471289627413641.html
LOCATION:Afro Heat Pearl Event
GEO:47.498326;8.720981
URL:https://eventfrog.ch/de/p/partys/hip-hop-rap/afro-heat-pearl-event-7453471289627413641.html
END:VEVENT
END:VCALENDAR