BEGIN:VCALENDAR
VERSION:2.0
PRODID:EVENTFROG//EVENT//ICAL
BEGIN:VEVENT
UID:20260424T224213Z-7453475865759865601@eventfrog.ch
DTSTAMP:20260424T224213Z
DTSTART:20260516T210000Z
DTEND:20260517T020000Z
SUMMARY:2010er PARTY
DESCRIPTION:Im Nordportal Baden wird zu Hits von 2010 bis heute von DJ ab 23 Uhr getanzt und gefeiert.\n\nhttps://eventfrog.ch/de/p/partys/10-s/2010er-party-7453475865759865601.html
LOCATION:Nordportal Eventhalle Baden
GEO:47.481291;8.300290
URL:https://eventfrog.ch/de/p/partys/10-s/2010er-party-7453475865759865601.html
END:VEVENT
END:VCALENDAR