BEGIN:VCALENDAR
VERSION:2.0
PRODID:EVENTFROG//EVENT//ICAL
BEGIN:VEVENT
UID:20260424T225827Z-7453495184833123601@eventfrog.ch
DTSTAMP:20260424T225827Z
DTSTART:20260501T210000Z
DTEND:20260502T040000Z
SUMMARY:Tag Der Arbeit
DESCRIPTION:TAG DER ARBEIT / 1TH OF MAY\n\nhttps://eventfrog.ch/de/p/partys/house-techno/tag-der-arbeit-7453495184833123601.html
LOCATION:Frau Raedli Club
GEO:47.377217;8.527664
URL:https://eventfrog.ch/de/p/partys/house-techno/tag-der-arbeit-7453495184833123601.html
END:VEVENT
END:VCALENDAR